BEGIN:VCALENDAR
VERSION:2.0
PRODID:-//jEvents 2.0 for Joomla//EN
CALSCALE:GREGORIAN
METHOD:PUBLISH
BEGIN:VTIMEZONE
TZID:Europe/Berlin
END:VTIMEZONE
BEGIN:VEVENT
UID:8bd91412354f0839b7ff2ef25d22567c
CATEGORIES:Crosswindtraining
SUMMARY:SIM&FLY
DESCRIPTION;ENCODING=QUOTED-PRINTABLE:<p style="margin: 0px 0px 10px; border: medium; line-height: 1.5em; caret-c
 olor: rgb(34, 34, 34); color: rgb(34, 34, 34); font-family: &quot;Open Sans
 &quot;; font-size: 15px;">	<u><strong>Crosswind Simulatortraining und Flugt
 raining</strong></u></p><p style="margin: 0px 0px 10px; border: medium; lin
 e-height: 1.5em; caret-color: rgb(34, 34, 34); color: rgb(34, 34, 34); font
 -family: &quot;Open Sans&quot;; font-size: 15px;">	Standard: 1h Theoriebrie
 fing & 1h Simulatortraining (max 6 Piloten pro Trainingstag), Special für S
 pornradmodus möglich</p><p style="margin: 0px 0px 10px; border: medium; lin
 e-height: 1.5em; caret-color: rgb(34, 34, 34); color: rgb(34, 34, 34); font
 -family: &quot;Open Sans&quot;; font-size: 15px;">	Optional: zusätzlich act
 ual flighttraining auf C172 mit Fluglehrer für Inhaber entsprechender Lizen
 z / Verlängerungsstunde SIM / ICAO-ELPT Verlängerung L4 </p><p style="margi
 n: 0px 0px 10px; border: medium; line-height: 1.5em; caret-color: rgb(34, 3
 4, 34); color: rgb(34, 34, 34); font-family: &quot;Open Sans&quot;; font-si
 ze: 15px;">	- Flugstunden mit Trainer auf D-EORF (C172)</p><p style="margin
 : 0px 0px 10px; border: medium; line-height: 1.5em; caret-color: rgb(34, 34
 , 34); color: rgb(34, 34, 34); font-family: &quot;Open Sans&quot;; font-siz
 e: 15px;">	- Helgoland-Trainingsflüge</p><p style="margin: 0px 0px 10px; bo
 rder: medium; line-height: 1.5em; caret-color: rgb(34, 34, 34); color: rgb(
 34, 34, 34); font-family: &quot;Open Sans&quot;; font-size: 15px;">	- Lizen
 zverlängerungen </p><p style="margin: 0px 0px 10px; border: medium; line-he
 ight: 1.5em; caret-color: rgb(34, 34, 34); color: rgb(34, 34, 34); font-fam
 ily: &quot;Open Sans&quot;; font-size: 15px;">	Termine auf Anfrage und nach
  Vereinbarung unter anja(at)wolffson.de</p>
DTSTAMP:20260424T160320Z
DTSTART;TZID=Europe/Berlin:20251031T080000
DTEND;TZID=Europe/Berlin:20251217T170000
SEQUENCE:0
TRANSP:OPAQUE
END:VEVENT
END:VCALENDAR