BEGIN:VCALENDAR
VERSION:2.0
PRODID:-//jEvents 2.0 for Joomla//EN
CALSCALE:GREGORIAN
METHOD:PUBLISH
BEGIN:VTIMEZONE
TZID:Europe/Berlin
END:VTIMEZONE
BEGIN:VEVENT
UID:8639f67bf58f425b8089984c82651a21
CATEGORIES:ICAO-Sprachprüfung
SUMMARY:ICAO-Sprachprüfungen
DESCRIPTION;ENCODING=QUOTED-PRINTABLE:	Am 16. und/oder 17. Dezember (ca ab 17:00Uhr) bieten wir Termine für die I
 CAO-ELPT-Sprachprüfungen im Xwind Training Center Germany an.	Angeboten wer
 den Erst- und Verlängerungsprüfung Level 4 sowie Verlängerung Level 5.	 	 	
 Anmeldungen bitte schriftlich und  ab sofort und  bis 30.November latest an
  Diese E-Mail-Adresse ist vor Spambots geschützt! Zur Anzeige muss JavaScri
 pt eingeschaltet sein!
				document.getElementById('cloakcc48b77bfe3d01002b
 37b1e38fdad69b').innerHTML = '';
				var prefix = '&#109;a' + 'i&#108;' + '
 &#116;o';
				var path = 'hr' + 'ef' + '=';
				var addycc48b77bfe3d01002b3
 7b1e38fdad69b = '&#97;nj&#97;' + '&#64;';
				addycc48b77bfe3d01002b37b1e38
 fdad69b = addycc48b77bfe3d01002b37b1e38fdad69b + 'w&#111;lffs&#111;n' + '&#
 46;' + 'd&#101;';
				var addy_textcc48b77bfe3d01002b37b1e38fdad69b = '&#97
 ;nj&#97;(&#97;t)w&#111;lffs&#111;n.d&#101;';document.getElementById('cloakc
 c48b77bfe3d01002b37b1e38fdad69b').innerHTML += ''+addy_textcc48b77bfe3d0100
 2b37b1e38fdad69b+'';
			 	Prüfer:	-Carsten Brandt	- Tom Jülich	- Enriko Küm
 mel	 	Kosten:	Verlängerung L4:  115,00 EUR	Erstprüfung L4 :    145,00 EUR	V
 erlängerung L5:   145,00 EUR	 	 50,00 EUR Ermäßigung bei Buchung des Crossw
 indsicherheitstrainings   am gleichen Tag 
DTSTAMP:20260424T160039Z
DTSTART;TZID=Europe/Berlin:20251217T080000
DTEND;TZID=Europe/Berlin:20251217T170000
SEQUENCE:0
TRANSP:OPAQUE
END:VEVENT
END:VCALENDAR