BEGIN:VCALENDAR
VERSION:2.0
PRODID:-//jEvents 2.0 for Joomla//EN
CALSCALE:GREGORIAN
METHOD:PUBLISH
BEGIN:VTIMEZONE
TZID:Europe/Berlin
END:VTIMEZONE
BEGIN:VEVENT
UID:62797ad241bbce543bdda38e4c993951
CATEGORIES:ICAO-Sprachprüfung
SUMMARY:ICAO- Sprachprüfungen
DESCRIPTION;ENCODING=QUOTED-PRINTABLE:	Am 16. und/oder 17. Dezember (ca ab 17:00Uhr) bieten wir Termine für die I
 CAO-ELPT-Sprachprüfungen im Xwind Training Center Germany an.	Angeboten wer
 den Erst- und Verlängerungsprüfung Level 4 sowie Verlängerung Level 5.	 	 	
 Anmeldungen bitte schriftlich und  ab sofort und  bis 30.November latest an
  Diese E-Mail-Adresse ist vor Spambots geschützt! Zur Anzeige muss JavaScri
 pt eingeschaltet sein!
				document.getElementById('cloak9a4984acc99112030e
 5492b33eda324d').innerHTML = '';
				var prefix = '&#109;a' + 'i&#108;' + '
 &#116;o';
				var path = 'hr' + 'ef' + '=';
				var addy9a4984acc99112030e5
 492b33eda324d = '&#97;nj&#97;' + '&#64;';
				addy9a4984acc99112030e5492b33
 eda324d = addy9a4984acc99112030e5492b33eda324d + 'w&#111;lffs&#111;n' + '&#
 46;' + 'd&#101;';
				var addy_text9a4984acc99112030e5492b33eda324d = '&#97
 ;nj&#97;(&#97;t)w&#111;lffs&#111;n.d&#101;';document.getElementById('cloak9
 a4984acc99112030e5492b33eda324d').innerHTML += ''+addy_text9a4984acc9911203
 0e5492b33eda324d+'';
			 	Prüfer:	-Carsten Brandt	- Tom Jülich	- Enriko Küm
 mel	 	Kosten:	Verlängerung L4:  115,00 EUR	Erstprüfung L4 :    145,00 EUR	V
 erlängerung L5:   145,00 EUR	 	 50,00 EUR Ermäßigung bei Buchung des Crossw
 indsicherheitstrainings   am gleichen Tag 
DTSTAMP:20260424T160003Z
DTSTART;TZID=Europe/Berlin:20251216T080000
DTEND;TZID=Europe/Berlin:20251216T170000
SEQUENCE:0
TRANSP:OPAQUE
END:VEVENT
END:VCALENDAR