BEGIN:VCALENDAR
VERSION:2.0
PRODID:-//jEvents 2.0 for Joomla//EN
CALSCALE:GREGORIAN
METHOD:PUBLISH
BEGIN:VTIMEZONE
TZID:Europe/Berlin
END:VTIMEZONE
BEGIN:VEVENT
UID:ccc95d67507b063ac17a34dccdcb881a
CATEGORIES:Crosswindtraining
SUMMARY:Crosswindtraining SIM&FLY
DESCRIPTION;ENCODING=QUOTED-PRINTABLE:<p>	<u><strong>Crosswind Simulatortraining und Flugtraining</strong></u></p
 ><p>	Standard: 1h Theoriebriefing & 1h Simulatortraining (max 6 Piloten pro
  Trainingstag), Special für Spornradmodus möglich</p><p>	Optional: zusätzli
 ch actual flighttraining auf C172 mit Fluglehrer für Inhaber entsprechender
  Lizenz / Verlängerungsstunde SIM / ICAO-ELPT Verlängerung L4 </p><p>	- Flu
 gstunden mit Trainer auf D-EORF (C172)</p><p>	- Helgoland-Trainingsflüge</p
 ><p>	- Lizenzverlängerungen </p><p>	Termine auf Anfrage und nach Vereinbaru
 ng unter anja(at)wolffson.de</p>
DTSTAMP:20260424T160238Z
DTSTART;TZID=Europe/Berlin;VALUE=DATE:20250510
DTEND;TZID=Europe/Berlin;VALUE=DATE:20251201
SEQUENCE:0
TRANSP:OPAQUE
END:VEVENT
END:VCALENDAR